BEGIN:VCALENDAR
VERSION:2.0
PRODID:-//Albury Wodonga Football Association (AWFA) - ECPv6.15.20//NONSGML v1.0//EN
CALSCALE:GREGORIAN
METHOD:PUBLISH
X-ORIGINAL-URL:https://www.awfa.asn.au
X-WR-CALDESC:Events for Albury Wodonga Football Association (AWFA)
REFRESH-INTERVAL;VALUE=DURATION:PT1H
X-Robots-Tag:noindex
X-PUBLISHED-TTL:PT1H
BEGIN:VTIMEZONE
TZID:Australia/Melbourne
BEGIN:STANDARD
TZOFFSETFROM:+1100
TZOFFSETTO:+1000
TZNAME:AEST
DTSTART:20240406T160000
END:STANDARD
BEGIN:DAYLIGHT
TZOFFSETFROM:+1000
TZOFFSETTO:+1100
TZNAME:AEDT
DTSTART:20241005T160000
END:DAYLIGHT
BEGIN:STANDARD
TZOFFSETFROM:+1100
TZOFFSETTO:+1000
TZNAME:AEST
DTSTART:20250405T160000
END:STANDARD
BEGIN:DAYLIGHT
TZOFFSETFROM:+1000
TZOFFSETTO:+1100
TZNAME:AEDT
DTSTART:20251004T160000
END:DAYLIGHT
BEGIN:STANDARD
TZOFFSETFROM:+1100
TZOFFSETTO:+1000
TZNAME:AEST
DTSTART:20260404T160000
END:STANDARD
BEGIN:DAYLIGHT
TZOFFSETFROM:+1000
TZOFFSETTO:+1100
TZNAME:AEDT
DTSTART:20261003T160000
END:DAYLIGHT
END:VTIMEZONE
BEGIN:VEVENT
DTSTART;TZID=Australia/Melbourne:20250725T180000
DTEND;TZID=Australia/Melbourne:20250725T210000
DTSTAMP:20260422T213228
CREATED:20250619T042136Z
LAST-MODIFIED:20250702T001836Z
UID:4735-1753466400-1753477200@www.awfa.asn.au
SUMMARY:Rep Presentation Night U13s - U16s
DESCRIPTION:Friday July 25th 2025 \nPlayers do not require a ticket \nMaximum 2 tickets per player for family members/friends.
URL:https://www.awfa.asn.au/event/rep-presentation-night/
LOCATION:Commercial Club\, 618 Dean Street\, Albury\, NSW\, 2640\, Australia
ORGANIZER;CN="Albury Wodonga Football Association":MAILTO:admin@awfa.asn.au
END:VEVENT
END:VCALENDAR