BEGIN:VCALENDAR
VERSION:2.0
PRODID:-//Albury Wodonga Football Association (AWFA) - ECPv6.15.20//NONSGML v1.0//EN
CALSCALE:GREGORIAN
METHOD:PUBLISH
X-WR-CALNAME:Albury Wodonga Football Association (AWFA)
X-ORIGINAL-URL:https://www.awfa.asn.au
X-WR-CALDESC:Events for Albury Wodonga Football Association (AWFA)
REFRESH-INTERVAL;VALUE=DURATION:PT1H
X-Robots-Tag:noindex
X-PUBLISHED-TTL:PT1H
BEGIN:VTIMEZONE
TZID:Australia/Melbourne
BEGIN:STANDARD
TZOFFSETFROM:+1100
TZOFFSETTO:+1000
TZNAME:AEST
DTSTART:20230401T160000
END:STANDARD
BEGIN:DAYLIGHT
TZOFFSETFROM:+1000
TZOFFSETTO:+1100
TZNAME:AEDT
DTSTART:20230930T160000
END:DAYLIGHT
BEGIN:STANDARD
TZOFFSETFROM:+1100
TZOFFSETTO:+1000
TZNAME:AEST
DTSTART:20240406T160000
END:STANDARD
BEGIN:DAYLIGHT
TZOFFSETFROM:+1000
TZOFFSETTO:+1100
TZNAME:AEDT
DTSTART:20241005T160000
END:DAYLIGHT
BEGIN:STANDARD
TZOFFSETFROM:+1100
TZOFFSETTO:+1000
TZNAME:AEST
DTSTART:20250405T160000
END:STANDARD
BEGIN:DAYLIGHT
TZOFFSETFROM:+1000
TZOFFSETTO:+1100
TZNAME:AEDT
DTSTART:20251004T160000
END:DAYLIGHT
END:VTIMEZONE
BEGIN:VEVENT
DTSTART;VALUE=DATE:20240902
DTEND;VALUE=DATE:20240903
DTSTAMP:20260420T074955
CREATED:20230326T230413Z
LAST-MODIFIED:20240217T002034Z
UID:1419-1725235200-1725321599@www.awfa.asn.au
SUMMARY:AWFA Senior Presentation Night
DESCRIPTION:Monday September 2nd 2024 at the Commercial Club Albury. 6.30pm Start
URL:https://www.awfa.asn.au/event/awfa-senior-presentation-night/
LOCATION:Commercial Club\, 618 Dean Street\, Albury\, NSW\, 2640\, Australia
END:VEVENT
BEGIN:VEVENT
DTSTART;VALUE=DATE:20240907
DTEND;VALUE=DATE:20240908
DTSTAMP:20260420T074955
CREATED:20240711T230349Z
LAST-MODIFIED:20240711T230349Z
UID:3740-1725667200-1725753599@www.awfa.asn.au
SUMMARY:AWFA Cup Final
DESCRIPTION:Saturday September 7th 2024
URL:https://www.awfa.asn.au/event/awfa-cup-final/
LOCATION:Lavington Sports Ground\, 1 Hanna St\, Hamilton Valley\, NSW\, 2641\, Australia
END:VEVENT
BEGIN:VEVENT
DTSTART;TZID=Australia/Melbourne:20240914T163000
DTEND;TZID=Australia/Melbourne:20240914T210000
DTSTAMP:20260420T074955
CREATED:20240619T050630Z
LAST-MODIFIED:20240809T022109Z
UID:3723-1726331400-1726347600@www.awfa.asn.au
SUMMARY:AWFA State of Origin 2024
DESCRIPTION:Saturday September 14th 2024
URL:https://www.awfa.asn.au/event/vic-country-championships-2025/
LOCATION:Kelly Park\, 24 Dalgleish St\, Wodonga\, Victoria\, 3690\, Australia
END:VEVENT
END:VCALENDAR