BEGIN:VCALENDAR
VERSION:2.0
PRODID:-//Albury Wodonga Football Association (AWFA) - ECPv6.15.20//NONSGML v1.0//EN
CALSCALE:GREGORIAN
METHOD:PUBLISH
X-ORIGINAL-URL:https://www.awfa.asn.au
X-WR-CALDESC:Events for Albury Wodonga Football Association (AWFA)
REFRESH-INTERVAL;VALUE=DURATION:PT1H
X-Robots-Tag:noindex
X-PUBLISHED-TTL:PT1H
BEGIN:VTIMEZONE
TZID:Australia/Melbourne
BEGIN:STANDARD
TZOFFSETFROM:+1100
TZOFFSETTO:+1000
TZNAME:AEST
DTSTART:20230401T160000
END:STANDARD
BEGIN:DAYLIGHT
TZOFFSETFROM:+1000
TZOFFSETTO:+1100
TZNAME:AEDT
DTSTART:20230930T160000
END:DAYLIGHT
BEGIN:STANDARD
TZOFFSETFROM:+1100
TZOFFSETTO:+1000
TZNAME:AEST
DTSTART:20240406T160000
END:STANDARD
BEGIN:DAYLIGHT
TZOFFSETFROM:+1000
TZOFFSETTO:+1100
TZNAME:AEDT
DTSTART:20241005T160000
END:DAYLIGHT
BEGIN:STANDARD
TZOFFSETFROM:+1100
TZOFFSETTO:+1000
TZNAME:AEST
DTSTART:20250405T160000
END:STANDARD
BEGIN:DAYLIGHT
TZOFFSETFROM:+1000
TZOFFSETTO:+1100
TZNAME:AEDT
DTSTART:20251004T160000
END:DAYLIGHT
BEGIN:STANDARD
TZOFFSETFROM:+1100
TZOFFSETTO:+1000
TZNAME:AEST
DTSTART:20260404T160000
END:STANDARD
BEGIN:DAYLIGHT
TZOFFSETFROM:+1000
TZOFFSETTO:+1100
TZNAME:AEDT
DTSTART:20261003T160000
END:DAYLIGHT
BEGIN:STANDARD
TZOFFSETFROM:+1100
TZOFFSETTO:+1000
TZNAME:AEST
DTSTART:20270403T160000
END:STANDARD
BEGIN:DAYLIGHT
TZOFFSETFROM:+1000
TZOFFSETTO:+1100
TZNAME:AEDT
DTSTART:20271002T160000
END:DAYLIGHT
END:VTIMEZONE
BEGIN:VEVENT
DTSTART;VALUE=DATE:20240809
DTEND;VALUE=DATE:20240810
DTSTAMP:20260420T150131
CREATED:20230831T054142Z
LAST-MODIFIED:20230907T024227Z
UID:3095-1723161600-1723247999@www.awfa.asn.au
SUMMARY:AWFA Junior Representative Dinner
DESCRIPTION:Friday 9 August 2024 @ the Commercial Club Albury \n 
URL:https://www.awfa.asn.au/event/awfa-junior-representative-dinner/
LOCATION:Commercial Club\, 618 Dean Street\, Albury\, NSW\, 2640\, Australia
END:VEVENT
BEGIN:VEVENT
DTSTART;VALUE=DATE:20240902
DTEND;VALUE=DATE:20240903
DTSTAMP:20260420T150131
CREATED:20230326T230413Z
LAST-MODIFIED:20240217T002034Z
UID:1419-1725235200-1725321599@www.awfa.asn.au
SUMMARY:AWFA Senior Presentation Night
DESCRIPTION:Monday September 2nd 2024 at the Commercial Club Albury. 6.30pm Start
URL:https://www.awfa.asn.au/event/awfa-senior-presentation-night/
LOCATION:Commercial Club\, 618 Dean Street\, Albury\, NSW\, 2640\, Australia
END:VEVENT
BEGIN:VEVENT
DTSTART;VALUE=DATE:20240907
DTEND;VALUE=DATE:20240908
DTSTAMP:20260420T150131
CREATED:20240711T230349Z
LAST-MODIFIED:20240711T230349Z
UID:3740-1725667200-1725753599@www.awfa.asn.au
SUMMARY:AWFA Cup Final
DESCRIPTION:Saturday September 7th 2024
URL:https://www.awfa.asn.au/event/awfa-cup-final/
LOCATION:Lavington Sports Ground\, 1 Hanna St\, Hamilton Valley\, NSW\, 2641\, Australia
END:VEVENT
BEGIN:VEVENT
DTSTART;TZID=Australia/Melbourne:20240914T163000
DTEND;TZID=Australia/Melbourne:20240914T210000
DTSTAMP:20260420T150131
CREATED:20240619T050630Z
LAST-MODIFIED:20240809T022109Z
UID:3723-1726331400-1726347600@www.awfa.asn.au
SUMMARY:AWFA State of Origin 2024
DESCRIPTION:Saturday September 14th 2024
URL:https://www.awfa.asn.au/event/vic-country-championships-2025/
LOCATION:Kelly Park\, 24 Dalgleish St\, Wodonga\, Victoria\, 3690\, Australia
END:VEVENT
BEGIN:VEVENT
DTSTART;TZID=Australia/Melbourne:20241201T160000
DTEND;TZID=Australia/Melbourne:20241201T180000
DTSTAMP:20260420T150131
CREATED:20240724T001345Z
LAST-MODIFIED:20240724T001345Z
UID:3747-1733068800-1733076000@www.awfa.asn.au
SUMMARY:AGM 2024
DESCRIPTION:Sunday December 1st 2024
URL:https://www.awfa.asn.au/event/agm-2024/
LOCATION:Commercial Club\, 618 Dean Street\, Albury\, NSW\, 2640\, Australia
END:VEVENT
BEGIN:VEVENT
DTSTART;TZID=Australia/Melbourne:20250414T183000
DTEND;TZID=Australia/Melbourne:20250414T193000
DTSTAMP:20260420T150131
CREATED:20250409T224423Z
LAST-MODIFIED:20250409T224423Z
UID:4358-1744655400-1744659000@www.awfa.asn.au
SUMMARY:EQ Nexus Emotional Intelligence Seminar
DESCRIPTION:Monday April 14th 2025
URL:https://www.awfa.asn.au/event/eq-nexus-emotional-intelligence-seminar/
LOCATION:Commercial Club\, 618 Dean Street\, Albury\, NSW\, 2640\, Australia
END:VEVENT
BEGIN:VEVENT
DTSTART;TZID=Australia/Melbourne:20250504T083000
DTEND;TZID=Australia/Melbourne:20250504T170000
DTSTAMP:20260420T150131
CREATED:20250409T224546Z
LAST-MODIFIED:20250409T224546Z
UID:4360-1746347400-1746378000@www.awfa.asn.au
SUMMARY:Festival of Football - Female Football Round
DESCRIPTION:Sunday May 4th 2025
URL:https://www.awfa.asn.au/event/festival-of-football-female-football-round/
LOCATION:Jelbart Park\, Moore Street\, Lavington\, NSW\, 2641\, Australia
END:VEVENT
BEGIN:VEVENT
DTSTART;TZID=Australia/Melbourne:20250510T163000
DTEND;TZID=Australia/Melbourne:20250510T220000
DTSTAMP:20260420T150131
CREATED:20250429T044105Z
LAST-MODIFIED:20250429T044105Z
UID:4403-1746894600-1746914400@www.awfa.asn.au
SUMMARY:FA Cup Final
DESCRIPTION:Saturday May 10th 2025
URL:https://www.awfa.asn.au/event/fa-cup-final-2/
LOCATION:La Trobe\, 133 McKoy St\, West Wodonga\, VIC\, 3690
END:VEVENT
BEGIN:VEVENT
DTSTART;TZID=Australia/Melbourne:20250725T180000
DTEND;TZID=Australia/Melbourne:20250725T210000
DTSTAMP:20260420T150131
CREATED:20250619T042136Z
LAST-MODIFIED:20250702T001836Z
UID:4735-1753466400-1753477200@www.awfa.asn.au
SUMMARY:Rep Presentation Night U13s - U16s
DESCRIPTION:Friday July 25th 2025 \nPlayers do not require a ticket \nMaximum 2 tickets per player for family members/friends.
URL:https://www.awfa.asn.au/event/rep-presentation-night/
LOCATION:Commercial Club\, 618 Dean Street\, Albury\, NSW\, 2640\, Australia
ORGANIZER;CN="Albury Wodonga Football Association":MAILTO:admin@awfa.asn.au
END:VEVENT
BEGIN:VEVENT
DTSTART;VALUE=DATE:20250830
DTEND;VALUE=DATE:20250831
DTSTAMP:20260420T150131
CREATED:20250515T060824Z
LAST-MODIFIED:20250515T060824Z
UID:4622-1756512000-1756598399@www.awfa.asn.au
SUMMARY:AWFA Semi Finals 1
DESCRIPTION:Saturday August 30th 2025
URL:https://www.awfa.asn.au/event/awfa-semi-finals-1/
LOCATION:Savoy Park\, 256 Great Alpine Rd\, Myrtleford\, Victoria\, 3737\, Australia
END:VEVENT
BEGIN:VEVENT
DTSTART;VALUE=DATE:20250831
DTEND;VALUE=DATE:20250901
DTSTAMP:20260420T150131
CREATED:20250515T060908Z
LAST-MODIFIED:20250515T060908Z
UID:4625-1756598400-1756684799@www.awfa.asn.au
SUMMARY:AWFA Semi Finals 2
DESCRIPTION:Saturday August 31st 2025
URL:https://www.awfa.asn.au/event/awfa-semi-finals-2/
LOCATION:Glen Park\, Ryan Road\, Glenroy\, NSW\, 2640\, Australia
END:VEVENT
BEGIN:VEVENT
DTSTART;TZID=Australia/Melbourne:20260907T180000
DTEND;TZID=Australia/Melbourne:20260907T210000
DTSTAMP:20260420T150131
CREATED:20250616T083202Z
LAST-MODIFIED:20260408T065220Z
UID:4729-1788804000-1788814800@www.awfa.asn.au
SUMMARY:Senior Presentation Night
DESCRIPTION:Monday September 7th 2026
URL:https://www.awfa.asn.au/event/senior-presentation-night/
LOCATION:Commercial Club\, 618 Dean Street\, Albury\, NSW\, 2640\, Australia
END:VEVENT
BEGIN:VEVENT
DTSTART;VALUE=DATE:20260912
DTEND;VALUE=DATE:20260913
DTSTAMP:20260420T150131
CREATED:20250515T060206Z
LAST-MODIFIED:20260408T063513Z
UID:4620-1789171200-1789257599@www.awfa.asn.au
SUMMARY:AWFA Cup Final
DESCRIPTION:Saturday September 12th 2026
URL:https://www.awfa.asn.au/event/awfa-cup-final-2/
LOCATION:Baranduda Fields\, Baranduda Blvd\, Baranduda\, VIC\, 3690\, Australia
END:VEVENT
BEGIN:VEVENT
DTSTART;TZID=Australia/Melbourne:20260919T140000
DTEND;TZID=Australia/Melbourne:20260919T190000
DTSTAMP:20260420T150131
CREATED:20250515T061117Z
LAST-MODIFIED:20260408T063440Z
UID:4627-1789826400-1789844400@www.awfa.asn.au
SUMMARY:State of Origin 2026
DESCRIPTION:Saturday September 19th 2026
URL:https://www.awfa.asn.au/event/state-of-origin-2025/
LOCATION:La Trobe\, 133 McKoy St\, West Wodonga\, VIC\, 3690
END:VEVENT
BEGIN:VEVENT
DTSTART;TZID=Australia/Melbourne:20261206T160000
DTEND;TZID=Australia/Melbourne:20261206T180000
DTSTAMP:20260420T150131
CREATED:20250619T042544Z
LAST-MODIFIED:20260408T065019Z
UID:4739-1796572800-1796580000@www.awfa.asn.au
SUMMARY:AGM 2026
DESCRIPTION:Sunday 6th December 2026
URL:https://www.awfa.asn.au/event/agm-2025/
LOCATION:Commercial Club\, 618 Dean Street\, Albury\, NSW\, 2640\, Australia
END:VEVENT
END:VCALENDAR