BEGIN:VCALENDAR
VERSION:2.0
PRODID:-//Albury Wodonga Football Association (AWFA) - ECPv6.15.20//NONSGML v1.0//EN
CALSCALE:GREGORIAN
METHOD:PUBLISH
X-ORIGINAL-URL:https://www.awfa.asn.au
X-WR-CALDESC:Events for Albury Wodonga Football Association (AWFA)
REFRESH-INTERVAL;VALUE=DURATION:PT1H
X-Robots-Tag:noindex
X-PUBLISHED-TTL:PT1H
BEGIN:VTIMEZONE
TZID:Australia/Melbourne
BEGIN:STANDARD
TZOFFSETFROM:+1100
TZOFFSETTO:+1000
TZNAME:AEST
DTSTART:20230401T160000
END:STANDARD
BEGIN:DAYLIGHT
TZOFFSETFROM:+1000
TZOFFSETTO:+1100
TZNAME:AEDT
DTSTART:20230930T160000
END:DAYLIGHT
BEGIN:STANDARD
TZOFFSETFROM:+1100
TZOFFSETTO:+1000
TZNAME:AEST
DTSTART:20240406T160000
END:STANDARD
BEGIN:DAYLIGHT
TZOFFSETFROM:+1000
TZOFFSETTO:+1100
TZNAME:AEDT
DTSTART:20241005T160000
END:DAYLIGHT
BEGIN:STANDARD
TZOFFSETFROM:+1100
TZOFFSETTO:+1000
TZNAME:AEST
DTSTART:20250405T160000
END:STANDARD
BEGIN:DAYLIGHT
TZOFFSETFROM:+1000
TZOFFSETTO:+1100
TZNAME:AEDT
DTSTART:20251004T160000
END:DAYLIGHT
END:VTIMEZONE
BEGIN:VEVENT
DTSTART;TZID=Australia/Melbourne:20240511T170000
DTEND;TZID=Australia/Melbourne:20240511T203000
DTSTAMP:20260420T093736
CREATED:20230326T230134Z
LAST-MODIFIED:20240126T061028Z
UID:1412-1715446800-1715459400@www.awfa.asn.au
SUMMARY:FA Cup Final
DESCRIPTION:Senior Ladies 5pm Kick Off:  ??  V’s  ?? \nSenior Men 7pm Kick Off:     ??   V’s  ??
URL:https://www.awfa.asn.au/event/fa-cup-final/
LOCATION:La Trobe\, 133 McKoy St\, West Wodonga\, VIC\, 3690
END:VEVENT
END:VCALENDAR